BEGIN:VCALENDAR
METHOD:PUBLISH
VERSION:2.0
CALSCALE:GREGORIAN
PRODID:-//NONSGML Sandhills Development\, LLC//NONSGML Sugar Calendar Fe
 eds v3.4.0//EN
X-WR-CALNAME:Warren Miller's All Time
X-WR-CALDESC:Portland Downtown
X-WR-TIMEZONE:America/New_York
BEGIN:VTIMEZONE
TZID:America/New_York
BEGIN:STANDARD
TZOFFSETFROM:-0400
TZOFFSETTO:-0500
DTSTART:20231105T060000
TZNAME:EST
END:STANDARD
END:VTIMEZONE
BEGIN:VTIMEZONE
TZID:America/New_York
BEGIN:STANDARD
TZOFFSETFROM:-0400
TZOFFSETTO:-0500
DTSTART:20231105T060000
TZNAME:EST
END:STANDARD
END:VTIMEZONE
BEGIN:VEVENT
SUMMARY:Warren Miller's All Time
DESCRIPTION:Get ready to go deep into the stuff of which snowy dreams ar
 e made with Warren Miller’s ALL TIME. Celebrate the birth of ski towns
  like Sun Valley and Aspen\, icons and innovators like the original hotd
 oggers\, and the most outlandish locations ever skied. Then\, catch up w
 ith Maine’s finest athlete of today\, Donny Pelletier\, and meet the n
 ext generation at Woodward Park City. Through it all\, Jonny Moseley and
  special guests will share their own stories to bring us to this moment.
 \n\nIt’s all going down this fall as we kick off our two-year party fo
 r 75 seasons on snow.
URL;VALUE=URI:https://portlandmaine.com/events/warren-millers-all-time/
UID:urn:uuid:c14e1ffd-b587-4d8c-99fd-1970b0d5f0d7
STATUS:CONFIRMED
ORGANIZER:
DTSTAMP:20260419T164409Z
DTSTART;TZID=America/New_York:20231110T193000
DTEND;TZID=America/New_York:20231110T213000
LOCATION:609 Congress St\, Portland\,  Maine  04101\,  US
END:VEVENT
END:VCALENDAR