BEGIN:VCALENDAR
METHOD:PUBLISH
VERSION:2.0
CALSCALE:GREGORIAN
PRODID:-//NONSGML Sandhills Development\, LLC//NONSGML Sugar Calendar Fe
 eds v3.4.0//EN
X-WR-CALNAME:Vintage Motorcycle Festival
X-WR-CALDESC:Portland Downtown
X-WR-TIMEZONE:America/New_York
BEGIN:VTIMEZONE
TZID:America/New_York
BEGIN:DAYLIGHT
TZOFFSETFROM:-0500
TZOFFSETTO:-0400
DTSTART:20210314T070000
TZNAME:EDT
END:DAYLIGHT
END:VTIMEZONE
BEGIN:VTIMEZONE
TZID:America/New_York
BEGIN:DAYLIGHT
TZOFFSETFROM:-0500
TZOFFSETTO:-0400
DTSTART:20210314T070000
TZNAME:EDT
END:DAYLIGHT
END:VTIMEZONE
BEGIN:VEVENT
SUMMARY:Vintage Motorcycle Festival
DESCRIPTION:Come hear the RUMBLE (Sept 4-5) at the Owls Head Transportat
 ion Museums Vintage Motorcycle Festival. This much anticipated annual ga
 thering attracts hundreds of antique motorcycles from all over New Engla
 nd.
URL;VALUE=URI:https://portlandmaine.com/events/vintage-motorcycle-festiv
 al/
UID:urn:uuid:0e61f1b5-465b-40bf-932a-f873e6c151c7
STATUS:CONFIRMED
ORGANIZER:
DTSTAMP:20260425T111509Z
DTSTART;TZID=America/New_York:20210904T100000
DTEND;TZID=America/New_York:20210904T150000
END:VEVENT
END:VCALENDAR