BEGIN:VCALENDAR
METHOD:PUBLISH
VERSION:2.0
CALSCALE:GREGORIAN
PRODID:-//NONSGML Sandhills Development\, LLC//NONSGML Sugar Calendar Fe
 eds v3.4.0//EN
X-WR-CALNAME:Veg Fest
X-WR-CALDESC:Portland Downtown
X-WR-TIMEZONE:America/New_York
BEGIN:VTIMEZONE
TZID:America/New_York
BEGIN:DAYLIGHT
TZOFFSETFROM:-0400
TZOFFSETTO:-0400
DTSTART:20230428T230000
TZNAME:EDT
END:DAYLIGHT
END:VTIMEZONE
BEGIN:VTIMEZONE
TZID:America/New_York
BEGIN:DAYLIGHT
TZOFFSETFROM:-0400
TZOFFSETTO:-0400
DTSTART:20230428T230000
TZNAME:EDT
END:DAYLIGHT
END:VTIMEZONE
BEGIN:VEVENT
SUMMARY:Veg Fest
DESCRIPTION:Veg Fest is a free event with lectures\, vendors and exhibit
 ors. This year's lectures are about food waste\, fermented foods\, and s
 eaweed. There will be three food trucks outside and inside food for sale
  and samples. Live music at noon - Darlin Corey. Also a raffle and silen
 t auction. For more details\, see www.mainevegfest.com .\n\nCategory: Fe
 stivals | Festival
URL;VALUE=URI:https://portlandmaine.com/events/veg-fest/
UID:urn:uuid:d24d0492-091f-4685-8fa1-66c11a657898
STATUS:CONFIRMED
ORGANIZER:
DTSTAMP:20260426T031914Z
DTSTART;TZID=America/New_York:20231028T110000
DTEND;TZID=America/New_York:20231028T150000
LOCATION:195 North Street\, Portland\,  Maine  04101\,  US
END:VEVENT
END:VCALENDAR