BEGIN:VCALENDAR
METHOD:PUBLISH
VERSION:2.0
CALSCALE:GREGORIAN
PRODID:-//NONSGML Sandhills Development\, LLC//NONSGML Sugar Calendar Fe
 eds v3.4.0//EN
X-WR-CALNAME:UMaine Women's Basketball vs. Indiana University
X-WR-CALDESC:Portland Downtown
X-WR-TIMEZONE:America/New_York
BEGIN:VTIMEZONE
TZID:America/New_York
BEGIN:STANDARD
TZOFFSETFROM:-0400
TZOFFSETTO:-0500
DTSTART:20231105T060000
TZNAME:EST
END:STANDARD
END:VTIMEZONE
BEGIN:VTIMEZONE
TZID:America/New_York
BEGIN:STANDARD
TZOFFSETFROM:-0400
TZOFFSETTO:-0500
DTSTART:20231105T060000
TZNAME:EST
END:STANDARD
END:VTIMEZONE
BEGIN:VEVENT
SUMMARY:UMaine Women's Basketball vs. Indiana University
DESCRIPTION:The University of Maine women's basketball team will host In
 diana University on Nov. 30\, 2023 at the Cross Insurance Arena in Portl
 and\, Maine.\n\nThe game with Indiana will mark Maine's first appearance
  in Portland since 2019 and its first appearance at the Cross Insurance 
 Arena since its America East semifinal victory over New Hampshire on Mar
 ch 4\, 2018. It will also be the third overall meeting between Maine and
  Indiana and the first since the Black Bears hosted the Hoosiers in 2004
 . Maine and Indiana first met in 2003 Bloomington\, In.
URL;VALUE=URI:https://portlandmaine.com/events/umaine-womens-basketball-
 vs-indiana-university/
UID:urn:uuid:cc5016e9-7262-4e03-b404-7b4171dbbb79
STATUS:CONFIRMED
ORGANIZER:
DTSTAMP:20260419T164111Z
DTSTART;TZID=America/New_York:20231130T190000
DTEND;TZID=America/New_York:20231130T210000
LOCATION:1 Civic Center Sq\, Portland\,  Maine  04101\,  US
END:VEVENT
END:VCALENDAR