BEGIN:VCALENDAR
METHOD:PUBLISH
VERSION:2.0
CALSCALE:GREGORIAN
PRODID:-//NONSGML Sandhills Development\, LLC//NONSGML Sugar Calendar Fe
 eds v3.4.0//EN
X-WR-CALNAME:UMaine Men's Hockey vs. Bentley University
X-WR-CALDESC:Portland Downtown
X-WR-TIMEZONE:America/New_York
BEGIN:VTIMEZONE
TZID:America/New_York
BEGIN:STANDARD
TZOFFSETFROM:-0400
TZOFFSETTO:-0500
DTSTART:20231105T060000
TZNAME:EST
END:STANDARD
END:VTIMEZONE
BEGIN:VTIMEZONE
TZID:America/New_York
BEGIN:STANDARD
TZOFFSETFROM:-0400
TZOFFSETTO:-0500
DTSTART:20231105T060000
TZNAME:EST
END:STANDARD
END:VTIMEZONE
BEGIN:VEVENT
SUMMARY:UMaine Men's Hockey vs. Bentley University
DESCRIPTION:The second game of a UMaine Hockey double-header in Portland
  on Dec. 9\, will feature the UMaine Men vs. Bentley University at 7PM.\
 n\nThis is the Black Bears first return to the Cross Insurance Arena sin
 ce 2020.\n\nGroups of 10+ receive a discount on tickets when booking thr
 ough Group Sales: 207.791.2235
URL;VALUE=URI:https://portlandmaine.com/events/umaine-mens-hockey-vs-ben
 tley-university/
UID:urn:uuid:0df7cef4-060f-48e5-ae2f-a7014169642b
STATUS:CONFIRMED
ORGANIZER:
DTSTAMP:20260419T164358Z
DTSTART;TZID=America/New_York:20231209T190000
DTEND;TZID=America/New_York:20231209T210000
LOCATION:1 Civic Center Sq\, Portland\,  Maine  04101\,  US
END:VEVENT
END:VCALENDAR