BEGIN:VCALENDAR
METHOD:PUBLISH
VERSION:2.0
CALSCALE:GREGORIAN
PRODID:-//NONSGML Sandhills Development\, LLC//NONSGML Sugar Calendar Fe
 eds v3.4.0//EN
X-WR-CALNAME:Two Films About Love For Valentine's Day
X-WR-CALDESC:Portland Downtown
X-WR-TIMEZONE:America/New_York
BEGIN:VTIMEZONE
TZID:America/New_York
BEGIN:STANDARD
TZOFFSETFROM:-0400
TZOFFSETTO:-0500
DTSTART:20221106T060000
TZNAME:EST
END:STANDARD
END:VTIMEZONE
BEGIN:VTIMEZONE
TZID:America/New_York
BEGIN:STANDARD
TZOFFSETFROM:-0400
TZOFFSETTO:-0500
DTSTART:20221106T060000
TZNAME:EST
END:STANDARD
END:VTIMEZONE
BEGIN:VEVENT
SUMMARY:Two Films About Love For Valentine's Day
DESCRIPTION:ROSE is Aurélie Saudi's debut film about a widowed French-S
 ephardic matriarch (Françoise Fabian of Bonne Année and Call My Agent)
  whose urge to "indulge in desire" (Forward) incites the disbelief and d
 isapproval of her grown children.\n\nIn Kavah Nabatian's SIN LA HABANA a
  restless Cuban ballet dancer seduces a young Persian-Jewish tourist fro
 m Montreal in order to engineer his escape from Havana. But the plan unr
 avels\, revealing secrets and deception on both sides.\n\nWe're offering
  a discounted pass - pay $18 for both films. Please note: due to the geo
 blocking by the film's distributor\, Rose can be watched only in Maine.\
 n\nBoth films are available for streaming from February 16 at 5pm\, unti
 l February 19 at midnight.
URL;VALUE=URI:https://portlandmaine.com/events/two-films-about-love-for-
 valentines-day/
UID:urn:uuid:3961702b-9d29-412e-9ae8-2170c2eef3a1
STATUS:CONFIRMED
ORGANIZER:
DTSTAMP:20260422T114633Z
DTSTART;TZID=America/New_York:20230216T170000
DTEND;TZID=America/New_York:20230216T170000
LOCATION:Online\, \,Maine  US
END:VEVENT
END:VCALENDAR