BEGIN:VCALENDAR
METHOD:PUBLISH
VERSION:2.0
CALSCALE:GREGORIAN
PRODID:-//NONSGML Sandhills Development\, LLC//NONSGML Sugar Calendar Fe
 eds v3.4.0//EN
X-WR-CALNAME:The Running With Scissors Open Studios
X-WR-CALDESC:Portland Downtown
X-WR-TIMEZONE:America/New_York
BEGIN:VTIMEZONE
TZID:America/New_York
BEGIN:DAYLIGHT
TZOFFSETFROM:-0400
TZOFFSETTO:-0400
DTSTART:20220401T220000
TZNAME:EDT
END:DAYLIGHT
END:VTIMEZONE
BEGIN:VTIMEZONE
TZID:America/New_York
BEGIN:DAYLIGHT
TZOFFSETFROM:-0400
TZOFFSETTO:-0400
DTSTART:20220401T220000
TZNAME:EDT
END:DAYLIGHT
END:VTIMEZONE
BEGIN:VEVENT
SUMMARY:The Running With Scissors Open Studios
DESCRIPTION:The Running With Scissors Art Studios (RWS) annual 6x6 exhib
 it and open studios are happening in Portland\, Maine during Maine Craft
  Weekend (MCW)!\n\nKick off your celebration of craft on September 30th 
 from 5-8pm for an informal artist meet and greet and exhibit at Belleflo
 wer Brewing Co. (66 Cove Street). On Saturday and Sunday\, October 1st a
 nd 2nd\, explore the life and works of 80+ artists working with diverse 
 mediums\, artistic goals\, backgrounds\, ages\, and experiences and wand
 er over 16\,000 square feet of private and open-air studios and communal
  work spaces in the clay\, print\, wood\, and paint studios at Running W
 ith Scissors Art Studios (250 Anderson Street) from 10am - 5pm on Saturd
 ay and noon - 4pm on Sunday. Support local artists and learn more about 
 RWS at these family-friendly and free events! All visitors are asked to 
 please wear a mask.\n\nThese events are a part of MCW\, a statewide tour
  of Maine craft studios\, businesses\, and events. Running With Scissors
  is a proud 2022 Event Sponsor of MCW\, which is produced by Maine Craft
 s Association\, an organizational resident member at RWS. For more infor
 mation visit rwsartstudios.com and follow @rwsartstudios on Instagram.
URL;VALUE=URI:https://portlandmaine.com/events/the-running-with-scissors
 -open-studios/
UID:urn:uuid:39326432-0fa0-4e22-a0b3-3bd6db7b55d6
STATUS:CONFIRMED
ORGANIZER:
DTSTAMP:20260422T143058Z
DTSTART;TZID=America/New_York:20221001T100000
DTEND;TZID=America/New_York:20221001T170000
LOCATION:250 Anderson St\, Portland\,  Maine  04101\,  US
END:VEVENT
END:VCALENDAR