BEGIN:VCALENDAR
METHOD:PUBLISH
VERSION:2.0
CALSCALE:GREGORIAN
PRODID:-//NONSGML Sandhills Development\, LLC//NONSGML Sugar Calendar Fe
 eds v3.4.0//EN
X-WR-CALNAME:The Phantom of the Opera - A Halloween Movie Night!
X-WR-CALDESC:Portland Downtown
X-WR-TIMEZONE:America/New_York
BEGIN:VTIMEZONE
TZID:America/New_York
BEGIN:DAYLIGHT
TZOFFSETFROM:-0400
TZOFFSETTO:-0400
DTSTART:20210501T070000
TZNAME:EDT
END:DAYLIGHT
END:VTIMEZONE
BEGIN:VTIMEZONE
TZID:America/New_York
BEGIN:DAYLIGHT
TZOFFSETFROM:-0400
TZOFFSETTO:-0400
DTSTART:20210501T070000
TZNAME:EDT
END:DAYLIGHT
END:VTIMEZONE
BEGIN:VEVENT
SUMMARY:The Phantom of the Opera - A Halloween Movie Night!
DESCRIPTION:James Kennerley\, Portland's Municipal Organist\, accompanie
 s this classic movie with an improvised symphonic score on the Kotzschma
 r Organ.\n\nThe movie will also be available On-Demand online Sunday\, O
 ctober 17 (Noon) through Monday\, November 1 at 6PM.\n\nContact PortTIX 
 for concert tickets\nwww.PortTIX.com\n207-842-0800\n\nFor more informati
 on\, contact us at info@FOKO.org\n\nwww.foko.org
URL;VALUE=URI:https://portlandmaine.com/events/the-phantom-of-the-opera-
 a-halloween-movie-night/
UID:urn:uuid:a5476648-92a9-48cf-904a-7ad09a28a273
STATUS:CONFIRMED
ORGANIZER:
DTSTAMP:20260423T022714Z
DTSTART;TZID=America/New_York:20211030T190000
DTEND;TZID=America/New_York:20211030T201500
END:VEVENT
END:VCALENDAR