BEGIN:VCALENDAR
METHOD:PUBLISH
VERSION:2.0
CALSCALE:GREGORIAN
PRODID:-//NONSGML Sandhills Development\, LLC//NONSGML Sugar Calendar Fe
 eds v3.4.0//EN
X-WR-CALNAME:Tanglewood Marionettes' "Hansel &amp\; Gretel"
X-WR-CALDESC:Portland Downtown
X-WR-TIMEZONE:America/New_York
BEGIN:VTIMEZONE
TZID:America/New_York
BEGIN:STANDARD
TZOFFSETFROM:-0400
TZOFFSETTO:-0500
DTSTART:20231105T060000
TZNAME:EST
END:STANDARD
END:VTIMEZONE
BEGIN:VTIMEZONE
TZID:America/New_York
BEGIN:STANDARD
TZOFFSETFROM:-0400
TZOFFSETTO:-0500
DTSTART:20231105T060000
TZNAME:EST
END:STANDARD
END:VTIMEZONE
BEGIN:VEVENT
SUMMARY:Tanglewood Marionettes' "Hansel &amp\; Gretel"
DESCRIPTION:Set against the colorful backdrop of a giant storybook\, Tan
 glewood Marionette's Hansel &amp\; Gretel is based on the classic fairyt
 ale by the Brothers Grimm\, and features melodies from the Humperdinck o
 pera.\n\nAs the pages of the storybook turn\, each new and exciting scen
 e is revealed. All the staging\, scenery\, and lavishly costumed 30" mar
 ionettes are handcrafted by Tanglewood Marionettes. Together they repres
 ent over a year of construction time.\n\nThe story itself is set in the 
 mid-nineteenth century. As the tale unfolds\, Hansel and Gretel must cal
 l upon their inner reserves and learn new methods to overcome the challe
 nges they encounter while lost in the woods.\n\nFilled with surprises\, 
 Tanglewood's Hansel and Gretel is a treat for all ages.
URL;VALUE=URI:https://portlandmaine.com/events/tanglewood-marionettes-ha
 nsel-gretel/
UID:urn:uuid:ec7babc1-4da2-42c5-a7e5-0ac76ed49351
STATUS:CONFIRMED
ORGANIZER:
DTSTAMP:20260423T105021Z
DTSTART;TZID=America/New_York:20231209T140000
DTEND;TZID=America/New_York:20231209T150000
LOCATION:10 Mayo Street\, Portland\,  Maine  04101\,  US
END:VEVENT
END:VCALENDAR