BEGIN:VCALENDAR
METHOD:PUBLISH
VERSION:2.0
CALSCALE:GREGORIAN
PRODID:-//NONSGML Sandhills Development\, LLC//NONSGML Sugar Calendar Fe
 eds v3.4.0//EN
X-WR-CALNAME:STITCH: Maine Designers on the Runway\, a Fashion Fundraise
 r Benefiting the Maine Crafts Association
X-WR-CALDESC:Portland Downtown
X-WR-TIMEZONE:America/New_York
BEGIN:VTIMEZONE
TZID:America/New_York
BEGIN:DAYLIGHT
TZOFFSETFROM:-0500
TZOFFSETTO:-0400
DTSTART:20210314T070000
TZNAME:EDT
END:DAYLIGHT
END:VTIMEZONE
BEGIN:VTIMEZONE
TZID:America/New_York
BEGIN:DAYLIGHT
TZOFFSETFROM:-0500
TZOFFSETTO:-0400
DTSTART:20210314T070000
TZNAME:EDT
END:DAYLIGHT
END:VTIMEZONE
BEGIN:VEVENT
SUMMARY:STITCH: Maine Designers on the Runway\, a Fashion Fundraiser Ben
 efiting the Maine Crafts Association
DESCRIPTION:STITCH features an evening of style\, celebrating new and es
 tablished Maine designers in a live runway show and an time to mix and m
 ingle with fellow supporters and followers of design\, art &amp\; craft 
 – all in support of one of Maine’s essential non-profit arts organiz
 ations: the Maine Craft Association.\n\n5pm-8pm\, Runway Show at 6:30pm\
 n\n$50 tickets ($40 for current MCA members) supports the Maine Crafts A
 ssociation and includes snacks\, admission to the runway show\, and soci
 alizing before and after the show.\n\n*ADVANCE / ONLINE TICKETS (purchas
 ed online before September 9th @ 4pm) will also receive a drink ticket (
 beer\, jun\, kombucha &amp\; more!) with their purchase!\n\nStyle Market
  @ STITCH /// 12pm-6:30pm\nSTITCH: Maine Designers on the Runway will fe
 ature a new outdoor shopping experience in the form of a pop-up Style Ma
 rket! Maine designers will exhibit &amp\; sell in the Style Market along
 side the runway designers\, prior to the start of the runway show in fro
 nt of Urban Farm Fermentory. This component is free and open to the publ
 ic\, and does not require a STITCH event ticket.\n\n#MakeItBlue:&nbsp\; 
 Indigo Dyeing Activity @ STITCH /// 12pm-5:30pm\nJoin us for a fun after
 noon of over-dyeing with indigo in the sunshine before STITCH: Maine Des
 igners on the Runway\, and participate in one of fashions’ biggest tre
 nds right now – sustainability.&nbsp\;So don’t throw it away\, throw
  it in a vat! Update your wardrobe\, kitchen linens\, favorite tote bag 
 or textile in need.\nBring your own: $5 / item\nPurchase one of ours: $1
 0 / silk scarf
URL;VALUE=URI:https://portlandmaine.com/events/stitch-maine-designers-on
 -the-runway-a-fashion-fundraiser-benefiting-the-maine-crafts-association
 /
UID:urn:uuid:c328c46a-d368-4825-9e24-0068fc2e0561
STATUS:CONFIRMED
ORGANIZER:
DTSTAMP:20260425T123803Z
DTSTART;TZID=America/New_York:20210909T170000
DTEND;TZID=America/New_York:20210909T200000
END:VEVENT
END:VCALENDAR