BEGIN:VCALENDAR
METHOD:PUBLISH
VERSION:2.0
CALSCALE:GREGORIAN
PRODID:-//NONSGML Sandhills Development\, LLC//NONSGML Sugar Calendar Fe
 eds v3.4.0//EN
X-WR-CALNAME:Seaweed Saturday - Food\, Films\, Art\, Science &amp\; More
X-WR-CALDESC:Portland Downtown
X-WR-TIMEZONE:America/New_York
BEGIN:VTIMEZONE
TZID:America/New_York
BEGIN:STANDARD
TZOFFSETFROM:-0400
TZOFFSETTO:-0500
DTSTART:20231105T060000
TZNAME:EST
END:STANDARD
BEGIN:DAYLIGHT
TZOFFSETFROM:-0500
TZOFFSETTO:-0400
DTSTART:20240310T070000
TZNAME:EDT
END:DAYLIGHT
END:VTIMEZONE
BEGIN:VTIMEZONE
TZID:America/New_York
BEGIN:STANDARD
TZOFFSETFROM:-0400
TZOFFSETTO:-0500
DTSTART:20231105T060000
TZNAME:EST
END:STANDARD
BEGIN:DAYLIGHT
TZOFFSETFROM:-0500
TZOFFSETTO:-0400
DTSTART:20240310T070000
TZNAME:EDT
END:DAYLIGHT
END:VTIMEZONE
BEGIN:VEVENT
SUMMARY:Seaweed Saturday - Food\, Films\, Art\, Science &amp\; More
DESCRIPTION:Dive into seaweed with food\, films\, art\, science &amp\; v
 endors at this FREE\, all-ages expo presented during Maine Seaweed Week 
 and sponsored by the World Wildlife Fund!\n\nIt's your chance to get up 
 close and personal with all things Maine seaweed. Please join us for a d
 ay of fun April 20th at the Gulf of Maine Research Institute on Portland
 's working waterfront.\n\nHIGHLIGHTS:\nš Films: The Maine Outdoor Film
  Festival will host screenings throughout the day featuring stories abou
 t seaweed aquaculture and nature.\nš Species ID workshops: Learn seawe
 ed science with the University of Maine's Maine Sea Grant program.\nš 
 Seaweed-inspired art: Local artists will exhibit their seaweed-inspired 
 paintings\, photographs and seaweed pressings.\nš Vendors: Farms and m
 akers will showcase their seaweed products (e.g. kelp smoothie cubes\, p
 ower bars\, dried dulse\, tea\, bath and body items) to try or buy.\nš
  Meet seaweed farmers: And check out a line of fresh farmed kelp (don't 
 forget to take a kelp selfie).\n\nPresented by World Wildlife Fund\, Mai
 ne Outdoor Film Festival\, Gulf of Maine Research Institute\, Maine Sea 
 Grant and Heritage Seaweed.
URL;VALUE=URI:https://portlandmaine.com/events/seaweed-saturday-food-fil
 ms-art-science-more/
UID:urn:uuid:f7cbfccf-a544-40b5-85e7-669df2fbefb8
STATUS:CONFIRMED
ORGANIZER:
DTSTAMP:20260423T022957Z
DTSTART;TZID=America/New_York:20240420T110000
DTEND;TZID=America/New_York:20240420T160000
LOCATION:350 Commercial St\, Portland\,  Maine  04101\,  US
END:VEVENT
END:VCALENDAR