BEGIN:VCALENDAR
METHOD:PUBLISH
VERSION:2.0
CALSCALE:GREGORIAN
PRODID:-//NONSGML Sandhills Development\, LLC//NONSGML Sugar Calendar Fe
 eds v3.4.0//EN
X-WR-CALNAME:Professional Women's &amp\; Non-binary Ultimate Frisbee Gam
 e -- Portland Rising vs. Philadelphia Surge
X-WR-CALDESC:Portland Downtown
X-WR-TIMEZONE:America/New_York
BEGIN:VTIMEZONE
TZID:America/New_York
BEGIN:STANDARD
TZOFFSETFROM:-0400
TZOFFSETTO:-0500
DTSTART:20221106T060000
TZNAME:EST
END:STANDARD
BEGIN:DAYLIGHT
TZOFFSETFROM:-0500
TZOFFSETTO:-0400
DTSTART:20230312T070000
TZNAME:EDT
END:DAYLIGHT
END:VTIMEZONE
BEGIN:VTIMEZONE
TZID:America/New_York
BEGIN:STANDARD
TZOFFSETFROM:-0400
TZOFFSETTO:-0500
DTSTART:20221106T060000
TZNAME:EST
END:STANDARD
BEGIN:DAYLIGHT
TZOFFSETFROM:-0500
TZOFFSETTO:-0400
DTSTART:20230312T070000
TZNAME:EDT
END:DAYLIGHT
END:VTIMEZONE
BEGIN:VEVENT
SUMMARY:Professional Women's &amp\; Non-binary Ultimate Frisbee Game -- 
 Portland Rising vs. Philadelphia Surge
DESCRIPTION:Portland Rising\, Maine's first professional women's/non-bin
 ary sports team\, takes on the Philadelphia Surge in their 2023 home ope
 ner on Saturday\, April 22 at Fitzpatrick Stadium. Enjoy food trucks\, a
  beer garden\, impressive athleticism\, and more! Games are family-frien
 dly and designed to keep fans engaged—spectators of all ages and level
 s of familiarity with Ultimate will have a blast.\n\nTickets are on sale
  now at https://www.portlandrising.me/2023-schedule. Prices increase at 
 the door\, so don't wait!\n\nCan't make this game? Check out the other t
 wo home games this season:\n5/6 vs. DC Shadow\n5/27 vs. Milwaukee Monarc
 hs\n\nSee you there!
URL;VALUE=URI:https://portlandmaine.com/events/professional-womens-non-b
 inary-ultimate-frisbee-game-portland-rising-vs-philadelphia-surge/
UID:urn:uuid:63360ebf-d43a-4b26-b14c-94ecd26ae16a
STATUS:CONFIRMED
ORGANIZER:
DTSTAMP:20260422T115539Z
DTSTART;TZID=America/New_York:20230422T173000
DTEND;TZID=America/New_York:20230422T200000
LOCATION:Deering Avenue\, Portland\,  Maine  04101\,  US
END:VEVENT
END:VCALENDAR