BEGIN:VCALENDAR
METHOD:PUBLISH
VERSION:2.0
CALSCALE:GREGORIAN
PRODID:-//NONSGML Sandhills Development\, LLC//NONSGML Sugar Calendar Fe
 eds v3.4.0//EN
X-WR-CALNAME:Portland’s Earth Day Celebration
X-WR-CALDESC:Portland Downtown
X-WR-TIMEZONE:America/New_York
BEGIN:VTIMEZONE
TZID:America/New_York
BEGIN:STANDARD
TZOFFSETFROM:-0400
TZOFFSETTO:-0500
DTSTART:20231105T060000
TZNAME:EST
END:STANDARD
BEGIN:DAYLIGHT
TZOFFSETFROM:-0500
TZOFFSETTO:-0400
DTSTART:20240310T070000
TZNAME:EDT
END:DAYLIGHT
END:VTIMEZONE
BEGIN:VTIMEZONE
TZID:America/New_York
BEGIN:STANDARD
TZOFFSETFROM:-0400
TZOFFSETTO:-0500
DTSTART:20231105T060000
TZNAME:EST
END:STANDARD
BEGIN:DAYLIGHT
TZOFFSETFROM:-0500
TZOFFSETTO:-0400
DTSTART:20240310T070000
TZNAME:EDT
END:DAYLIGHT
END:VTIMEZONE
BEGIN:VEVENT
SUMMARY:Portland’s Earth Day Celebration
DESCRIPTION:Join us for a free\, family-friendly Earth Day celebration i
 n Payson Park on Saturday\, April 20\, 10:00 AM - 1:00 PM! City departme
 nts are teaming up with local green organizations to host a festival of 
 fun: music\, food trucks\, e-bikes and electric lawn equipment to try ou
 t\, outdoor activities\, and more.\n\nDon't miss this great chance to co
 nnect with neighbors and friends of the City\, learn sustainability tips
 \, and celebrate nature together in Portland\, Maine.
URL;VALUE=URI:https://portlandmaine.com/events/portlands-earth-day-celeb
 ration/
UID:urn:uuid:e41e0046-cc4d-4359-88eb-eb9df2148547
STATUS:CONFIRMED
ORGANIZER:
DTSTAMP:20260423T023017Z
DTSTART;TZID=America/New_York:20240420T100000
DTEND;TZID=America/New_York:20240420T130000
LOCATION:Payson Park\, Portland\,  Maine  04103\,  US
END:VEVENT
END:VCALENDAR