BEGIN:VCALENDAR
METHOD:PUBLISH
VERSION:2.0
CALSCALE:GREGORIAN
PRODID:-//NONSGML Sandhills Development\, LLC//NONSGML Sugar Calendar Fe
 eds v3.4.0//EN
X-WR-CALNAME:Play Me A Story
X-WR-CALDESC:Portland Downtown
X-WR-TIMEZONE:America/New_York
BEGIN:VTIMEZONE
TZID:America/New_York
BEGIN:STANDARD
TZOFFSETFROM:-0400
TZOFFSETTO:-0500
DTSTART:20211107T060000
TZNAME:EST
END:STANDARD
END:VTIMEZONE
BEGIN:VTIMEZONE
TZID:America/New_York
BEGIN:STANDARD
TZOFFSETFROM:-0400
TZOFFSETTO:-0500
DTSTART:20211107T060000
TZNAME:EST
END:STANDARD
END:VTIMEZONE
BEGIN:VEVENT
SUMMARY:Play Me A Story
DESCRIPTION:Experience the fun and magic of theatre on Saturday Mornings
  with Play Me A Story! Ages 4- 10 enjoy a performance of children's stor
 ies followed by an interactive acting workshop with Portland Stage's Edu
 cation Artists for $15. Sign up for the month and save\, or pick individ
 ual days that work for you. Build literacy\, encourage creativity and sp
 ark dramatic dreams!\n\nPlay Me A Story takes place in person at Portlan
 d Stage's Theatre for Kids on Saturday mornings from 10:30am--12:00pm. D
 oors open at 10:00am\, 10:30am performance\, followed by an interactive 
 workshop from 11:00am--11:45am\, with everything wrapped up by 12:00pm.
URL;VALUE=URI:https://portlandmaine.com/events/play-me-a-story-8/
UID:urn:uuid:afd8af23-9e84-46ac-b635-e19d322da087
STATUS:CONFIRMED
ORGANIZER:
DTSTAMP:20260423T054229Z
DTSTART;TZID=America/New_York:20220219T103000
DTEND;TZID=America/New_York:20220219T120000
LOCATION:25A Forest Ave\, Portland Stage\,  Maine  04101\,  US
END:VEVENT
END:VCALENDAR