BEGIN:VCALENDAR
METHOD:PUBLISH
VERSION:2.0
CALSCALE:GREGORIAN
PRODID:-//NONSGML Sandhills Development\, LLC//NONSGML Sugar Calendar Fe
 eds v3.4.0//EN
X-WR-CALNAME:Opera Maine's Elixir of Love
X-WR-CALDESC:Portland Downtown
X-WR-TIMEZONE:America/New_York
BEGIN:VTIMEZONE
TZID:America/New_York
BEGIN:DAYLIGHT
TZOFFSETFROM:-0500
TZOFFSETTO:-0400
DTSTART:20210314T070000
TZNAME:EDT
END:DAYLIGHT
END:VTIMEZONE
BEGIN:VTIMEZONE
TZID:America/New_York
BEGIN:DAYLIGHT
TZOFFSETFROM:-0500
TZOFFSETTO:-0400
DTSTART:20210314T070000
TZNAME:EDT
END:DAYLIGHT
END:VTIMEZONE
BEGIN:VEVENT
SUMMARY:Opera Maine's Elixir of Love
DESCRIPTION:Two rivals vie for Adina's heart\, but only one has the help
  of a mystery potion...
URL;VALUE=URI:https://portlandmaine.com/events/opera-maines-elixir-of-lo
 ve/
UID:urn:uuid:c54b468f-3a55-4c0d-b5f5-d3e91f5c9a2d
STATUS:CONFIRMED
ORGANIZER:
DTSTAMP:20260423T102433Z
DTSTART;TZID=America/New_York:20210730T193000
DTEND;TZID=America/New_York:20210730T210000
END:VEVENT
END:VCALENDAR