BEGIN:VCALENDAR
METHOD:PUBLISH
VERSION:2.0
CALSCALE:GREGORIAN
PRODID:-//NONSGML Sandhills Development\, LLC//NONSGML Sugar Calendar Fe
 eds v3.4.0//EN
X-WR-CALNAME:MEREDA’s Morning Menu – Vertical Harvest plants a seed 
 in Downtown Westbrook
X-WR-CALDESC:Portland Downtown
X-WR-TIMEZONE:America/New_York
BEGIN:VTIMEZONE
TZID:America/New_York
BEGIN:STANDARD
TZOFFSETFROM:-0400
TZOFFSETTO:-0500
DTSTART:20211107T060000
TZNAME:EST
END:STANDARD
END:VTIMEZONE
BEGIN:VTIMEZONE
TZID:America/New_York
BEGIN:STANDARD
TZOFFSETFROM:-0400
TZOFFSETTO:-0500
DTSTART:20211107T060000
TZNAME:EST
END:STANDARD
END:VTIMEZONE
BEGIN:VEVENT
SUMMARY:MEREDA’s Morning Menu – Vertical Harvest plants a seed in Do
 wntown Westbrook
DESCRIPTION:The City of Westbrook in partnership with The Day Brothers\,
  LLC has an exciting new mixed-use development project that will be brea
 king ground this Winter in the heart of its downtown. This project will 
 be Maine’s first commercial urban vertical farm adjacent to a structur
 e combining ground floor retail space\, residential units\, and a 4-leve
 l\, free covered public parking garage. This dynamic new development cap
 tures Maine’s entrepreneurial spirit.\n\nMake plans to join us in pers
 on on December 16\, 2021 at the Portland Regency Hotel in Portland as ou
 r Moderator\, Craig Young\, Partner &amp\; Broker at The Boulos Company\
 , and MEREDA Vice President\, talks with our esteemed panel about how ve
 rtical farming is changing the landscape in an urban\, sustainable and p
 rofitable model.\n\nJoining us are Daniel Stevenson\, Director of Econom
 ic and Community Development at the City of Westbrook\, Nona Yehia\, Co-
 Founder &amp\; CEO of Vertical Harvest\, and Greg Day\, President of The
  Day Brothers\, LLC.
URL;VALUE=URI:https://portlandmaine.com/events/meredas-morning-menu-vert
 ical-harvest-plants-a-seed-in-downtown-westbrook/
UID:urn:uuid:8d2e46a8-7260-4671-afef-62d46479f472
STATUS:CONFIRMED
ORGANIZER:
DTSTAMP:20260423T040942Z
DTSTART;TZID=America/New_York:20211216T073000
DTEND;TZID=America/New_York:20211216T090000
LOCATION:20 Milk Street\, Portland\,  Maine  04101\,  US
END:VEVENT
END:VCALENDAR