BEGIN:VCALENDAR
METHOD:PUBLISH
VERSION:2.0
CALSCALE:GREGORIAN
PRODID:-//NONSGML Sandhills Development\, LLC//NONSGML Sugar Calendar Fe
 eds v3.4.0//EN
X-WR-CALNAME:Local Author Event
X-WR-CALDESC:Portland Downtown
X-WR-TIMEZONE:America/New_York
BEGIN:VTIMEZONE
TZID:America/New_York
BEGIN:DAYLIGHT
TZOFFSETFROM:-0500
TZOFFSETTO:-0400
DTSTART:20240310T070000
TZNAME:EDT
END:DAYLIGHT
END:VTIMEZONE
BEGIN:VTIMEZONE
TZID:America/New_York
BEGIN:DAYLIGHT
TZOFFSETFROM:-0500
TZOFFSETTO:-0400
DTSTART:20240310T070000
TZNAME:EDT
END:DAYLIGHT
END:VTIMEZONE
BEGIN:VEVENT
SUMMARY:Local Author Event
DESCRIPTION:Join local author Lynne Spriggs to celebrate the release of 
 her new memoir Elk Love.
URL;VALUE=URI:https://portlandmaine.com/events/local-author-event/
UID:urn:uuid:bd70dcea-a04e-4da3-b67a-ba41c4e89ff0
STATUS:CONFIRMED
ORGANIZER:
DTSTAMP:20260423T022444Z
DTSTART;TZID=America/New_York:20240801T190000
DTEND;TZID=America/New_York:20240801T210000
LOCATION:273 Congress Road\, Portland\,  Maine  04101\,  US
END:VEVENT
END:VCALENDAR