BEGIN:VCALENDAR
METHOD:PUBLISH
VERSION:2.0
CALSCALE:GREGORIAN
PRODID:-//NONSGML Sandhills Development\, LLC//NONSGML Sugar Calendar Fe
 eds v3.4.0//EN
X-WR-CALNAME:Livingston Taylor w/ Chelsea Berry
X-WR-CALDESC:Portland Downtown
X-WR-TIMEZONE:America/New_York
BEGIN:VTIMEZONE
TZID:America/New_York
BEGIN:DAYLIGHT
TZOFFSETFROM:-0500
TZOFFSETTO:-0400
DTSTART:20220313T070000
TZNAME:EDT
END:DAYLIGHT
END:VTIMEZONE
BEGIN:VTIMEZONE
TZID:America/New_York
BEGIN:DAYLIGHT
TZOFFSETFROM:-0500
TZOFFSETTO:-0400
DTSTART:20220313T070000
TZNAME:EDT
END:DAYLIGHT
END:VTIMEZONE
BEGIN:VEVENT
SUMMARY:Livingston Taylor w/ Chelsea Berry
DESCRIPTION:$45 adv. - $55 at the door | 7pm doors - 8pm show\n\nLivings
 ton Taylor picked up his first guitar at the age of 13\, which began a 5
 0-year career that has encompassed performance\, songwriting\, and teach
 ing. Born in Boston and raised in North Carolina\, Livingston is the fou
 rth child in a very musical family that includes Alex\, James\, Kate\, a
 nd Hugh. Livingston recorded his first record at the age of 18 and has c
 ontinued to create well crafted\, introspective\, and original songs tha
 t have earned him listeners worldwide.\n\nFrom top-40 hits “I Will Be 
 in Love with You” and “I’ll Come Running\,” to “I Can Dream of
  You” and “Boatman\,” the last two recorded by his brother James\,
  Livingston’s creative output has continued unabated. His musical know
 ledge has inspired a varied repertoire\, and he is equally at home with 
 a range of musical genres—folk\, pop\, gospel\, jazz—and from upbeat
  storytelling and touching ballads to full orchestra performances.\n\nCh
 elsea Berry is a singer-songwriter with the edge\, power\, and finesse o
 f legends. Her presence has been described by listeners as “compelling
 … she draws the entire house into her world like moths to a flame.”\
 n\nAs a vocalist and performer\, she evokes the style of artists such as
  Sheryl Crow\, Eva Cassidy\, KD Lang\, and Melissa Etheridge.\n\n“Grea
 t\, talented\, beautiful … her future is so bright you’re gonna have
  to wear shades.” – Chris Smither\n\nCovid-19 Protocols:\n\nWe are v
 ery excited to be hosting live music shows again in our listening room. 
 OLS is committed to providing a safe environment for all who work\, list
 en\, or perform live music in our venue. Because our venue is so small\,
  we will require all staff\, volunteers\, performers\, and patrons to sh
 ow proof of full vaccination against COVID-19 when they attend OLS event
 s AND to wear masks indoors unless they are actively drinking\, eating\,
  or performing.\n\nProof of vaccine must come directly from the health c
 are provider that performed the vaccination and can be a photo or physic
 al copy of the vaccination card or record with an accompanying photo ID.
  Full vaccination means that the date of the performance you are attendi
 ng is:\n\n* at least 14 days after your second dose of an FDA or WHO aut
 horized two dose COVID-19 vaccine\, or\n\n* at least 14 days after your 
 single dose of an FDA or WHO authorized single dose COVID vaccine.\n\nWe
  hope we can ease these restrictions once further progress has been made
  reducing transmission of the virus. Until then we greatly appreciate yo
 ur patience and cooperation.\n\nOne Longfellow Square does not assume li
 ability\; the ticket holder will assume all risks involved. By purchasin
 g a ticket to this event you agree to assume full liability for any risk
 s incurred before\, during and after the event and agree to the current 
 Terms of Use.
URL;VALUE=URI:https://portlandmaine.com/events/livingston-taylor-w-chels
 ea-berry/
UID:urn:uuid:61e42279-2f95-4e3d-9abd-a50d3b152fb3
STATUS:CONFIRMED
ORGANIZER:
DTSTAMP:20260420T125308Z
DTSTART;TZID=America/New_York:20220604T200000
DTEND;TZID=America/New_York:20220604T220000
LOCATION:181 State St.\, Portland\,  Maine  04101\,  US
END:VEVENT
END:VCALENDAR