BEGIN:VCALENDAR
METHOD:PUBLISH
VERSION:2.0
CALSCALE:GREGORIAN
PRODID:-//NONSGML Sandhills Development\, LLC//NONSGML Sugar Calendar Fe
 eds v3.4.0//EN
X-WR-CALNAME:LIVE MUSIC: Sam Luke Chase &amp\; Friends
X-WR-CALDESC:Portland Downtown
X-WR-TIMEZONE:America/New_York
BEGIN:VTIMEZONE
TZID:America/New_York
BEGIN:DAYLIGHT
TZOFFSETFROM:-0500
TZOFFSETTO:-0400
DTSTART:20220313T070000
TZNAME:EDT
END:DAYLIGHT
END:VTIMEZONE
BEGIN:VTIMEZONE
TZID:America/New_York
BEGIN:DAYLIGHT
TZOFFSETFROM:-0500
TZOFFSETTO:-0400
DTSTART:20220313T070000
TZNAME:EDT
END:DAYLIGHT
END:VTIMEZONE
BEGIN:VEVENT
SUMMARY:LIVE MUSIC: Sam Luke Chase &amp\; Friends
DESCRIPTION:LIVE MUSIC at The Portland Lobster Company- voted "Best Deck
 " and "Best Music Venue" in 2021
URL;VALUE=URI:https://portlandmaine.com/events/live-music-sam-luke-chase
 -friends-3/
UID:urn:uuid:9c6b82a4-1292-4b6b-9c80-04df44597bb4
STATUS:CONFIRMED
ORGANIZER:
DTSTAMP:20260422T102248Z
DTSTART;TZID=America/New_York:20220709T123000
DTEND;TZID=America/New_York:20220709T153000
LOCATION:180 Commercial St.\, Portland\,  Maine  04101\,  US
END:VEVENT
END:VCALENDAR