BEGIN:VCALENDAR
METHOD:PUBLISH
VERSION:2.0
CALSCALE:GREGORIAN
PRODID:-//NONSGML Sandhills Development\, LLC//NONSGML Sugar Calendar Fe
 eds v3.4.0//EN
X-WR-CALNAME:Les Petits Déjeuners de l’Automne – “Al Fresco” Ma
 is Pas Trop
X-WR-CALDESC:Portland Downtown
X-WR-TIMEZONE:America/New_York
BEGIN:VTIMEZONE
TZID:America/New_York
BEGIN:DAYLIGHT
TZOFFSETFROM:-0400
TZOFFSETTO:-0400
DTSTART:20210422T193000
TZNAME:EDT
END:DAYLIGHT
END:VTIMEZONE
BEGIN:VTIMEZONE
TZID:America/New_York
BEGIN:DAYLIGHT
TZOFFSETFROM:-0400
TZOFFSETTO:-0400
DTSTART:20210422T193000
TZNAME:EDT
END:DAYLIGHT
END:VTIMEZONE
BEGIN:VEVENT
SUMMARY:Les Petits Déjeuners de l’Automne – “Al Fresco” Mais Pa
 s Trop
DESCRIPTION:Le Petit Déjeuner du Vendredi (French speaking social gathe
 ring) will be held outside in various parks of the city throughout the f
 all until the weather prevents us from comfortably gathering outdoors. P
 lease visit our website (Click on Local Programs/French) for details as 
 you need to be on the “roster” to receive updates.
URL;VALUE=URI:https://portlandmaine.com/events/les-petits-dejeuners-de-l
 automne-al-fresco-mais-pas-trop-6/
UID:urn:uuid:606c3fd8-e3ed-49a6-886a-519151cfffc9
STATUS:CONFIRMED
ORGANIZER:
DTSTAMP:20260421T095427Z
DTSTART;TZID=America/New_York:20211022T073000
DTEND;TZID=America/New_York:20211022T083000
END:VEVENT
END:VCALENDAR