BEGIN:VCALENDAR
METHOD:PUBLISH
VERSION:2.0
CALSCALE:GREGORIAN
PRODID:-//NONSGML Sandhills Development\, LLC//NONSGML Sugar Calendar Fe
 eds v3.4.0//EN
X-WR-CALNAME:Intro to Sea Kayak Rescues
X-WR-CALDESC:Portland Downtown
X-WR-TIMEZONE:America/New_York
BEGIN:VTIMEZONE
TZID:America/New_York
BEGIN:DAYLIGHT
TZOFFSETFROM:-0500
TZOFFSETTO:-0400
DTSTART:20230312T070000
TZNAME:EDT
END:DAYLIGHT
END:VTIMEZONE
BEGIN:VTIMEZONE
TZID:America/New_York
BEGIN:DAYLIGHT
TZOFFSETFROM:-0500
TZOFFSETTO:-0400
DTSTART:20230312T070000
TZNAME:EDT
END:DAYLIGHT
END:VTIMEZONE
BEGIN:VEVENT
SUMMARY:Intro to Sea Kayak Rescues
DESCRIPTION:Learn essential capsize recovery skills at our waterfront si
 te in Portland\, Maine!\n\nGetting back into a kayak after a capsize mig
 ht be more difficult than you expect — especially if you’ve never le
 arned how to do it. That’s why it’s so important to learn some techn
 iques that enable you to rescue yourself and fellow paddlers if someone 
 accidentally flips over. Hypothermia sets in quickly on the Maine coast\
 , and even in ideal conditions re-entering a kayak from the water takes 
 skill\, experience and\, in some cases\, special equipment.\n\nThis cour
 se will give you a chance to learn and practice some of the most tried a
 nd true kayak rescues. Your instructor will do their best to customize t
 he course to meet with each student’s goals and interests. You will be
  in and out of the water throughout the session\, so plan to get wet!\n\
 nPortland Paddle (and most sea kayaking outfitters in North America) wil
 l require you to have the skills taught in this course before letting yo
 u rent a sea kayak for use on open coastal waters.
URL;VALUE=URI:https://portlandmaine.com/events/intro-to-sea-kayak-rescue
 s-2/
UID:urn:uuid:6d56c40e-b7ba-473e-9b4b-66dc92f59783
STATUS:CONFIRMED
ORGANIZER:
DTSTAMP:20260419T163914Z
DTSTART;TZID=America/New_York:20230903T103000
DTEND;TZID=America/New_York:20230903T133000
LOCATION:Cutter Street and Eastern Promenade\, Portland\,  Maine  04101\
 ,  US
END:VEVENT
END:VCALENDAR