BEGIN:VCALENDAR
METHOD:PUBLISH
VERSION:2.0
CALSCALE:GREGORIAN
PRODID:-//NONSGML Sandhills Development\, LLC//NONSGML Sugar Calendar Fe
 eds v3.4.0//EN
X-WR-CALNAME:Holiday Market and RWS Open Studios
X-WR-CALDESC:Portland Downtown
X-WR-TIMEZONE:America/New_York
BEGIN:VTIMEZONE
TZID:America/New_York
BEGIN:STANDARD
TZOFFSETFROM:-0400
TZOFFSETTO:-0500
DTSTART:20221106T060000
TZNAME:EST
END:STANDARD
END:VTIMEZONE
BEGIN:VTIMEZONE
TZID:America/New_York
BEGIN:STANDARD
TZOFFSETFROM:-0400
TZOFFSETTO:-0500
DTSTART:20221106T060000
TZNAME:EST
END:STANDARD
END:VTIMEZONE
BEGIN:VEVENT
SUMMARY:Holiday Market and RWS Open Studios
DESCRIPTION:The artists of Running With Scissors invite you into their s
 tudios to shop in the festive studio setting and get ready for the holid
 ays! Studios will be open to the public\, explore the life and works of 
 40+ artists working with diverse mediums\, artistic goals\, backgrounds\
 , ages\, and experiences. Wander over 16\,000 square feet of private and
  open-air studios and communal work spaces in the clay\, print\, wood\, 
 and paint studios at Running With Scissors Art Studios. There will be de
 corations\, samples from Three of Strong on Friday\, treats from Oh My C
 ookies on Saturday and Sunday\, and much more! Masks are suggested indoo
 rs. Questions? Email info@rwsartstudios.com.
URL;VALUE=URI:https://portlandmaine.com/events/holiday-market-and-rws-op
 en-studios-2/
UID:urn:uuid:e5c60f3d-8eb1-4243-b098-9fc13a8ea119
STATUS:CONFIRMED
ORGANIZER:
DTSTAMP:20260422T143209Z
DTSTART;TZID=America/New_York:20221211T120000
DTEND;TZID=America/New_York:20221211T170000
LOCATION:250 Anderson St\, Portland\,  Maine  04103\,  US
END:VEVENT
END:VCALENDAR