BEGIN:VCALENDAR
METHOD:PUBLISH
VERSION:2.0
CALSCALE:GREGORIAN
PRODID:-//NONSGML Sandhills Development\, LLC//NONSGML Sugar Calendar Fe
 eds v3.4.0//EN
X-WR-CALNAME:Funkationland
X-WR-CALDESC:Portland Downtown
X-WR-TIMEZONE:America/New_York
BEGIN:VTIMEZONE
TZID:America/New_York
BEGIN:DAYLIGHT
TZOFFSETFROM:-0400
TZOFFSETTO:-0400
DTSTART:20230317T070000
TZNAME:EDT
END:DAYLIGHT
END:VTIMEZONE
BEGIN:VTIMEZONE
TZID:America/New_York
BEGIN:DAYLIGHT
TZOFFSETFROM:-0400
TZOFFSETTO:-0400
DTSTART:20230317T070000
TZNAME:EDT
END:DAYLIGHT
END:VTIMEZONE
BEGIN:VEVENT
SUMMARY:Funkationland
DESCRIPTION:We will have limited dancing room for this show\, which will
  limit the number of seats available.\n\nFunkationland is a Portland bas
 ed group of 12 of the best musicians in Maine. Playing music of groups s
 uch as Tower of Power\, Earth Wind and Fire\, Steely Dan\, Stevie Wonder
  and many more\, Funkationland bring this style of music to Portland for
  one night only. The group boasts 6 horns (2 trumpets\, trombone\, Alto\
 , tenor and Bari Sax)\, 6 rhythms players (2 guitarists\, Keyboards\, Ba
 ss\, Drums and Latin Percussion) as well as loads of vocals which will l
 iterally “fill up One Longfellow Square” with horn based funk music.
URL;VALUE=URI:https://portlandmaine.com/events/funkationland-3/
UID:urn:uuid:192a5e38-e988-4d4d-bd97-7f1b8bd88cbd
STATUS:CONFIRMED
ORGANIZER:
DTSTAMP:20260422T130211Z
DTSTART;TZID=America/New_York:20230915T190000
DTEND;TZID=America/New_York:20230915T230000
LOCATION:181 State St\, Portland\,  Maine  04101\,  US
END:VEVENT
END:VCALENDAR