BEGIN:VCALENDAR
METHOD:PUBLISH
VERSION:2.0
CALSCALE:GREGORIAN
PRODID:-//NONSGML Sandhills Development\, LLC//NONSGML Sugar Calendar Fe
 eds v3.4.0//EN
X-WR-CALNAME:From a Woman's Perspective an Annual Exhibit of Visual Art
X-WR-CALDESC:Portland Downtown
X-WR-TIMEZONE:America/New_York
BEGIN:VTIMEZONE
TZID:America/New_York
BEGIN:DAYLIGHT
TZOFFSETFROM:-0500
TZOFFSETTO:-0400
DTSTART:20210314T070000
TZNAME:EDT
END:DAYLIGHT
END:VTIMEZONE
BEGIN:VTIMEZONE
TZID:America/New_York
BEGIN:DAYLIGHT
TZOFFSETFROM:-0500
TZOFFSETTO:-0400
DTSTART:20210314T070000
TZNAME:EDT
END:DAYLIGHT
END:VTIMEZONE
BEGIN:VEVENT
SUMMARY:From a Woman's Perspective an Annual Exhibit of Visual Art
DESCRIPTION:For the past six years Richard Boyd Art Gallery has installe
 d an annual exhibition of paintings and sculpture created by women artis
 ts to commemorate Women’s Equality Day. This exhibit demonstrates our 
 ongoing support of women’s equality and our hope for equality for all 
 mankind. The exhibit is installed during the month of September to comme
 morate Women’s Equality Day as designated by a Joint Resolution of Con
 gress on August 26\, 1971.\n\nCreating visual art gives women another vo
 ice\, a way to express their true feelings about daily life and the worl
 d around them. It’s a means of relaxation and a way to cope with issue
 s of the day.\n\nDrawn from the gallery’s inventory of paintings and s
 culptures\, this multi-generational exhibition includes a selection of o
 ver 25 works created by a group of accomplished artists’ Amy Bickford\
 , Linda Caron\, Patricia Chandler\, Carrin Culotta\, Laura Freeman\, Jan
 e Herbert\, Karen Chutsky Naud\, Jean Noon\, Jen Pagnini\, Felicity Sidw
 ell\, and Susan Tan. Although each artist has her own style\, technique\
 , and approach to creating art they are joined by a passion - expressing
  themselves through visual art.\n\nThe exhibition is open free of charge
  between the hours of 10:00 a.m. and 5:00 p.m. daily from September 1st 
 through September 29th\, 2021. For more information about the exhibit co
 ntact the gallery by phone at (207)-712-1097\, via email at info@richard
 boydartgallery.com or visit the gallery’s website at www.richardboydar
 tgallery.com .\n\nFor exhibit updates like the gallery on Facebook www.f
 acebook.com/RichardBoydArtGallery and follow it on Instagram at http://w
 ww.instagram.com/richardboydartgallery9327 .\n\nImage: Laura Freeman ~ 
 Presence D’ ~ Limited Edition Bronze Sculpture #1 of 5. 15”H x 9
 W x 8”D.
URL;VALUE=URI:https://portlandmaine.com/events/from-a-womans-perspective
 -an-annual-exhibit-of-visual-art/
UID:urn:uuid:cee01d49-f8e5-4ec0-9137-f8e8ab939b29
STATUS:CONFIRMED
ORGANIZER:
DTSTAMP:20260425T111549Z
DTSTART;TZID=America/New_York:20210901T100000
DTEND;TZID=America/New_York:20210901T170000
END:VEVENT
END:VCALENDAR