BEGIN:VCALENDAR
METHOD:PUBLISH
VERSION:2.0
CALSCALE:GREGORIAN
PRODID:-//NONSGML Sandhills Development\, LLC//NONSGML Sugar Calendar Fe
 eds v3.4.0//EN
X-WR-CALNAME:Cross for LifeFlight
X-WR-CALDESC:Portland Downtown
X-WR-TIMEZONE:America/New_York
BEGIN:VTIMEZONE
TZID:America/New_York
BEGIN:DAYLIGHT
TZOFFSETFROM:-0500
TZOFFSETTO:-0400
DTSTART:20210314T070000
TZNAME:EDT
END:DAYLIGHT
END:VTIMEZONE
BEGIN:VTIMEZONE
TZID:America/New_York
BEGIN:DAYLIGHT
TZOFFSETFROM:-0500
TZOFFSETTO:-0400
DTSTART:20210314T070000
TZNAME:EDT
END:DAYLIGHT
END:VTIMEZONE
BEGIN:VEVENT
SUMMARY:Cross for LifeFlight
DESCRIPTION:LifeFlight of Maine is excited to announce that registration
  is open for the 2021 Cross for LifeFlight\, taking place August 1-31\, 
 2021. The Cross for LifeFlight event aims to raise $450\,000 to expand a
 nd sustain LifeFlight\, Maine’s only emergency medical helicopter serv
 ice.\n\nPreviously an in-person swim event known as the “Islesboro Cro
 ssing\,” the 2021 Cross for LifeFlight has been expanded and reimagine
 d as a statewide\, self-led outdoor adventure challenge. Over the past f
 our years\, the Cross for LifeFlight has raised over $2 million to upgra
 de and standardize LifeFlight’s fleet of helicopters\, purchase the sp
 ecialized equipment needed on board\, and to fund important clinical edu
 cation and training programs across the state.\n\nFor registration infor
 mation or to donate directly\, volunteer\, or learn about sponsorship op
 portunities\, please visit http://crossforlifeflight.org/info
URL;VALUE=URI:https://portlandmaine.com/events/cross-for-lifeflight/
UID:urn:uuid:10728ebc-171e-44b8-9689-691b5f0eb65f
STATUS:CONFIRMED
ORGANIZER:
DTSTAMP:20260423T054143Z
DTSTART;TZID=America/New_York:20210801T080000
DTEND;TZID=America/New_York:20210801T170000
END:VEVENT
END:VCALENDAR