BEGIN:VCALENDAR
METHOD:PUBLISH
VERSION:2.0
CALSCALE:GREGORIAN
PRODID:-//NONSGML Sandhills Development\, LLC//NONSGML Sugar Calendar Fe
 eds v3.4.0//EN
X-WR-CALNAME:Cozy Winter Market
X-WR-CALDESC:Portland Downtown
X-WR-TIMEZONE:America/New_York
BEGIN:VTIMEZONE
TZID:America/New_York
BEGIN:STANDARD
TZOFFSETFROM:-0400
TZOFFSETTO:-0500
DTSTART:20211107T060000
TZNAME:EST
END:STANDARD
END:VTIMEZONE
BEGIN:VTIMEZONE
TZID:America/New_York
BEGIN:STANDARD
TZOFFSETFROM:-0400
TZOFFSETTO:-0500
DTSTART:20211107T060000
TZNAME:EST
END:STANDARD
END:VTIMEZONE
BEGIN:VEVENT
SUMMARY:Cozy Winter Market
DESCRIPTION:Warm up with us in Congress Square Park!\nWe'll have all sor
 ts of tasty treats\, hot beverages\, and locally made gifts for sale -- 
 plus fire pits to sit down and snuggle up around.\n\nVendors to date:\nC
 repe Elizabeth\nThe Pink Waffle\nBread &amp\; Friends Bakery\nThe Cultiv
 ated Thread\nEven Keel Card Co.\nCraft Candle Company\nSydney Berkeley\n
 Tenderly Bound Books\nCelly Francis\nMade by Abigael\nJosie Colt\ntinypa
 nts\nDendraforms\nFriends &amp\; Family\n\nWe're also delighted to welco
 me beloved local jazz musician Kafari back to the Park to serenade us!\n
 \nFoCSP's winter programming is made possible thanks to the support from
  The Hiawatha\, PK Realty Management\, The Westin\, Friends &amp\; Famil
 y\, and cPort Credit Union.
URL;VALUE=URI:https://portlandmaine.com/events/cozy-winter-market/
UID:urn:uuid:b1fdd8eb-4e36-45ca-ad56-1ef070af4f5a
STATUS:CONFIRMED
ORGANIZER:
DTSTAMP:20260424T135811Z
DTSTART;TZID=America/New_York:20211212T100000
DTEND;TZID=America/New_York:20211212T150000
LOCATION:Portland  Maine  04101\,  US
END:VEVENT
END:VCALENDAR