BEGIN:VCALENDAR
METHOD:PUBLISH
VERSION:2.0
CALSCALE:GREGORIAN
PRODID:-//NONSGML Sandhills Development\, LLC//NONSGML Sugar Calendar Fe
 eds v3.4.0//EN
X-WR-CALNAME:Casco Bay Traverse - Multi-day Trip
X-WR-CALDESC:Portland Downtown
X-WR-TIMEZONE:America/New_York
BEGIN:VTIMEZONE
TZID:America/New_York
BEGIN:DAYLIGHT
TZOFFSETFROM:-0500
TZOFFSETTO:-0400
DTSTART:20230312T070000
TZNAME:EDT
END:DAYLIGHT
END:VTIMEZONE
BEGIN:VTIMEZONE
TZID:America/New_York
BEGIN:DAYLIGHT
TZOFFSETFROM:-0500
TZOFFSETTO:-0400
DTSTART:20230312T070000
TZNAME:EDT
END:DAYLIGHT
END:VTIMEZONE
BEGIN:VEVENT
SUMMARY:Casco Bay Traverse - Multi-day Trip
DESCRIPTION:Friday\, August 18th 2023 @ 8:30am - Sunday\, August 20th 20
 23 @ 3:30pm\n\nThis is a three-day and two-night guided expedition acros
 s the breadth of Casco Bay. Along the way\, you’ll camp on the islands
  of the Maine Island Trail and experience the diverse environments found
  in the bay — from the exposed ocean-like conditions along the outer i
 slands to the calm and peaceful estuaries of the inner waters.
URL;VALUE=URI:https://portlandmaine.com/events/casco-bay-traverse-multi-
 day-trip-6/
UID:urn:uuid:d55e70c2-2580-47c2-82e9-49981fe90af1
STATUS:CONFIRMED
ORGANIZER:
DTSTAMP:20260419T164056Z
DTSTART;TZID=America/New_York:20230818T083000
DTEND;TZID=America/New_York:20230820T153000
LOCATION:Cutter Street and Eastern Promenade\, Portland\,  Maine  04101\
 ,  US
END:VEVENT
END:VCALENDAR