BEGIN:VCALENDAR
METHOD:PUBLISH
VERSION:2.0
CALSCALE:GREGORIAN
PRODID:-//NONSGML Sandhills Development\, LLC//NONSGML Sugar Calendar Fe
 eds v3.4.0//EN
X-WR-CALNAME:Casco Bay Traverse - Multi-day Trip
X-WR-CALDESC:Portland Downtown
X-WR-TIMEZONE:America/New_York
BEGIN:VTIMEZONE
TZID:America/New_York
BEGIN:DAYLIGHT
TZOFFSETFROM:-0500
TZOFFSETTO:-0400
DTSTART:20230312T070000
TZNAME:EDT
END:DAYLIGHT
END:VTIMEZONE
BEGIN:VTIMEZONE
TZID:America/New_York
BEGIN:DAYLIGHT
TZOFFSETFROM:-0500
TZOFFSETTO:-0400
DTSTART:20230312T070000
TZNAME:EDT
END:DAYLIGHT
END:VTIMEZONE
BEGIN:VEVENT
SUMMARY:Casco Bay Traverse - Multi-day Trip
DESCRIPTION:Monday\, August 7th 2023 @ 8:30am - Wednesday\, August 9th 2
 023 @ 3:30pm\n\nThis is a three-day and two-night guided expedition acro
 ss the breadth of Casco Bay. Along the way\, you’ll camp on the island
 s of the Maine Island Trail and experience the diverse environments foun
 d in the bay — from the exposed ocean-like conditions along the outer 
 islands to the calm and peaceful estuaries of the inner waters.
URL;VALUE=URI:https://portlandmaine.com/events/casco-bay-traverse-multi-
 day-trip-5/
UID:urn:uuid:fead70f1-c3bf-4ada-8ce9-5b98bccd3a8f
STATUS:CONFIRMED
ORGANIZER:
DTSTAMP:20260419T163615Z
DTSTART;TZID=America/New_York:20230807T083000
DTEND;TZID=America/New_York:20230809T153000
LOCATION:Cutter Street and Eastern Promenade\, Portland\,  Maine  04101\
 ,  US
END:VEVENT
END:VCALENDAR