BEGIN:VCALENDAR
METHOD:PUBLISH
VERSION:2.0
CALSCALE:GREGORIAN
PRODID:-//NONSGML Sandhills Development\, LLC//NONSGML Sugar Calendar Fe
 eds v3.4.0//EN
X-WR-CALNAME:Brownstone Brews &amp\; Bites
X-WR-CALDESC:Portland Downtown
X-WR-TIMEZONE:America/New_York
BEGIN:VTIMEZONE
TZID:America/New_York
BEGIN:DAYLIGHT
TZOFFSETFROM:-0500
TZOFFSETTO:-0400
DTSTART:20230312T070000
TZNAME:EDT
END:DAYLIGHT
END:VTIMEZONE
BEGIN:VTIMEZONE
TZID:America/New_York
BEGIN:DAYLIGHT
TZOFFSETFROM:-0500
TZOFFSETTO:-0400
DTSTART:20230312T070000
TZNAME:EDT
END:DAYLIGHT
END:VTIMEZONE
BEGIN:VEVENT
SUMMARY:Brownstone Brews &amp\; Bites
DESCRIPTION:Celebrating Victoria Mansion’s 17-year partnership with Al
 lagash Brewing\, our annual summer fundraiser is back – with a new nam
 e – for the first time since 2019!\n\nJoin us on the Mansion lawn on J
 uly 14th for great drinks\, great food\, and great company as we raise m
 oney for Victoria Mansion’s historic preservation and educational effo
 rts. Featuring Allagash beer\, Cellardoor wine\, Green Bee soda\, food f
 rom the Pink Waffle and Anania's\, and live music by the Pete Kilpatrick
  Band!\n\nTickets include food\, drinks\, live music\, and the opportuni
 ty to tour the first floor of Victoria Mansion. All attendees will recei
 ve a free Allagash Brewing chalice to take home.
URL;VALUE=URI:https://portlandmaine.com/events/brownstone-brews-bites/
UID:urn:uuid:04c17e30-2cf3-43ec-b51a-9659c2aaa7ea
STATUS:CONFIRMED
ORGANIZER:
DTSTAMP:20260421T083435Z
DTSTART;TZID=America/New_York:20230714T173000
DTEND;TZID=America/New_York:20230714T203000
LOCATION:109 Danforth Street\, Portland\,  Maine  04101\,  US
END:VEVENT
END:VCALENDAR