BEGIN:VCALENDAR
METHOD:PUBLISH
VERSION:2.0
CALSCALE:GREGORIAN
PRODID:-//NONSGML Sandhills Development\, LLC//NONSGML Sugar Calendar Fe
 eds v3.4.0//EN
X-WR-CALNAME:Belly Dance Level 3 - Online/In-Person Class with Rosa star
 ts 4/26
X-WR-CALDESC:Portland Downtown
X-WR-TIMEZONE:America/New_York
BEGIN:VTIMEZONE
TZID:America/New_York
BEGIN:STANDARD
TZOFFSETFROM:-0400
TZOFFSETTO:-0500
DTSTART:20221106T060000
TZNAME:EST
END:STANDARD
BEGIN:DAYLIGHT
TZOFFSETFROM:-0500
TZOFFSETTO:-0400
DTSTART:20230312T070000
TZNAME:EDT
END:DAYLIGHT
END:VTIMEZONE
BEGIN:VTIMEZONE
TZID:America/New_York
BEGIN:STANDARD
TZOFFSETFROM:-0400
TZOFFSETTO:-0500
DTSTART:20221106T060000
TZNAME:EST
END:STANDARD
BEGIN:DAYLIGHT
TZOFFSETFROM:-0500
TZOFFSETTO:-0400
DTSTART:20230312T070000
TZNAME:EDT
END:DAYLIGHT
END:VTIMEZONE
BEGIN:VEVENT
SUMMARY:Belly Dance Level 3 - Online/In-Person Class with Rosa starts 4/
 26
DESCRIPTION:**Save $20 till Apr 14! with the code SPRINGUP**\nReserve yo
 ur spot today!\nhttps://www.rosanoreen.com/bellydance\nWednesdays\, 7:30
  PM EDT\n**Online or In-Person**\n$174/8-week class\, save $20 early bir
 d till April 14\nPayment plan: 3 installments of $58\n---\nBELLY DANCE L
 EVEL 3\nDeepen your knowledge of raqs sharqi in these classes with Rosa.
  Each class focuses on a different rhythm or style\, including a combo a
 nd targeted improvisation exercises.\nThis class for folks who are fluen
 t in the foundations of belly dance\, have practiced traveling steps and
  layering movements\, and have a familiarity with rhythms. Dancers will 
 do a deep dive into a classic song\, exploring rhythm and melody transit
 ions\, improvisation and "signpost" choreography\, gaining the skills to
  dance with their own choice of movements!\nThe content is designed for 
 a small space\, so you can comfortably dance from home OR in the studio.
  Music\, voice\, and lighting is carefully designed to be sure both onli
 ne and in-person students have a great experience.\nAll registered stude
 nts will receive the class recordings\, available till a week after the 
 session ends\, so you can make your own schedule!\n---\n**Save $20 till 
 April 14! with the code SPRINGUP**\nReserve your spot today!\nhttps://ww
 w.rosanoreen.com/bellydance
URL;VALUE=URI:https://portlandmaine.com/events/belly-dance-level-3-onlin
 e-in-person-class-with-rosa-starts-4-26/
UID:urn:uuid:3db6f594-1db2-4229-8332-dee638237f8f
STATUS:CONFIRMED
ORGANIZER:
DTSTAMP:20260424T094833Z
DTSTART;TZID=America/New_York:20230426T193000
DTEND;TZID=America/New_York:20230426T204500
LOCATION:108 High St\, portland\,  Maine  04101\,  US
END:VEVENT
END:VCALENDAR