BEGIN:VCALENDAR
METHOD:PUBLISH
VERSION:2.0
CALSCALE:GREGORIAN
PRODID:-//NONSGML Sandhills Development\, LLC//NONSGML Sugar Calendar Fe
 eds v3.4.0//EN
X-WR-CALNAME:Balderdash Academy's IMPROV JAM
X-WR-CALDESC:Portland Downtown
X-WR-TIMEZONE:America/New_York
BEGIN:VTIMEZONE
TZID:America/New_York
BEGIN:DAYLIGHT
TZOFFSETFROM:-0400
TZOFFSETTO:-0400
DTSTART:20240319T070000
TZNAME:EDT
END:DAYLIGHT
END:VTIMEZONE
BEGIN:VTIMEZONE
TZID:America/New_York
BEGIN:DAYLIGHT
TZOFFSETFROM:-0400
TZOFFSETTO:-0400
DTSTART:20240319T070000
TZNAME:EDT
END:DAYLIGHT
END:VTIMEZONE
BEGIN:VEVENT
SUMMARY:Balderdash Academy's IMPROV JAM
DESCRIPTION:Join the cast of Balderdash Academy's Improv Live as we rais
 e money for The Hill Arts with an improv jam fundraiser. It’s relaxed 
 fun playing games\, hanging out\, and networking with improvisers and en
 tertainers from around the region\, all for a great cause!\n\nWhat's an 
 improv jam\, you ask? Great question random stranger. An improv jam is a
 n improv show where wherein any attendee is invited to participate. Ther
 e's an improv renaissance in the Northeast right now and this is your op
 portunity to get in on the fun. With a group? Come and play! Interested 
 in improv and want to give it a try? Come on down! Love The Hill Arts an
 d want to help meet their fundraising goals? You should come too! 100% o
 f the ticket sales will go toward the The Hill Arts!
URL;VALUE=URI:https://portlandmaine.com/events/balderdash-academys-impro
 v-jam-7/
UID:urn:uuid:db22af92-9440-4989-90c3-316bf2254c50
STATUS:CONFIRMED
ORGANIZER:
DTSTAMP:20260423T022606Z
DTSTART;TZID=America/New_York:20240917T190000
DTEND;TZID=America/New_York:20240917T210000
LOCATION:76 Congress Street\, Portland\,  Maine  04101\,  US
END:VEVENT
END:VCALENDAR