BEGIN:VCALENDAR
METHOD:PUBLISH
VERSION:2.0
CALSCALE:GREGORIAN
PRODID:-//NONSGML Sandhills Development\, LLC//NONSGML Sugar Calendar Fe
 eds v3.4.0//EN
X-WR-CALNAME:2021 Maine Authors Publishing Virtual Holiday Book Fair
X-WR-CALDESC:Portland Downtown
X-WR-TIMEZONE:America/New_York
BEGIN:VTIMEZONE
TZID:America/New_York
BEGIN:STANDARD
TZOFFSETFROM:-0400
TZOFFSETTO:-0500
DTSTART:20211107T060000
TZNAME:EST
END:STANDARD
END:VTIMEZONE
BEGIN:VTIMEZONE
TZID:America/New_York
BEGIN:STANDARD
TZOFFSETFROM:-0400
TZOFFSETTO:-0500
DTSTART:20211107T060000
TZNAME:EST
END:STANDARD
END:VTIMEZONE
BEGIN:VEVENT
SUMMARY:2021 Maine Authors Publishing Virtual Holiday Book Fair
DESCRIPTION:Join Maine Authors Publishing for the 2021 Virtual Holiday B
 ook Fair on December 1st through the 3rd! As a thank you for shopping lo
 cal and supporting local authors\, all orders placed through the Maine A
 uthors Publishing website during the holiday fair will include free gift
  wrapping and the 10th and 25th orders of each day will win a prize incl
 uding a $25 gift certificate to a local bookstore. On Wednesday\, Decemb
 er 1st\, from 5:30–6:30 p.m.\, Maine Authors Publishing will host a Fa
 cebook livestream with five authors and the opportunity to win a five-bo
 ok giveaway. On Friday\, December 3rd\, at 10:30 a.m.\, Maine Authors Pu
 blishing will be hosting their monthly free orientation class via Zoom. 
 Shop local this holiday season! FMI and links: www.MaineAuthorsPublishin
 g.com/holidayfair
URL;VALUE=URI:https://portlandmaine.com/events/2021-maine-authors-publis
 hing-virtual-holiday-book-fair/
UID:urn:uuid:d3001a1c-b27a-4a22-9ca2-e6bd201f3436
STATUS:CONFIRMED
ORGANIZER:
DTSTAMP:20260424T110346Z
DTSTART;TZID=America/New_York:20211201T000000
DTEND;TZID=America/New_York:20211202T000000
LOCATION:Online\, Thomaston\,  Maine  04861\,  US
END:VEVENT
END:VCALENDAR