BEGIN:VCALENDAR
METHOD:PUBLISH
VERSION:2.0
CALSCALE:GREGORIAN
PRODID:-//NONSGML Sandhills Development\, LLC//NONSGML Sugar Calendar Fe
 eds v3.4.0//EN
X-WR-CALNAME:12th Night: A Holiday Celebration of Shakespeare and Song
X-WR-CALDESC:Portland Downtown
X-WR-TIMEZONE:America/New_York
BEGIN:VTIMEZONE
TZID:America/New_York
BEGIN:STANDARD
TZOFFSETFROM:-0400
TZOFFSETTO:-0500
DTSTART:20211107T060000
TZNAME:EST
END:STANDARD
END:VTIMEZONE
BEGIN:VTIMEZONE
TZID:America/New_York
BEGIN:STANDARD
TZOFFSETFROM:-0400
TZOFFSETTO:-0500
DTSTART:20211107T060000
TZNAME:EST
END:STANDARD
END:VTIMEZONE
BEGIN:VEVENT
SUMMARY:12th Night: A Holiday Celebration of Shakespeare and Song
DESCRIPTION:Take a joyous romp through a Winter Wonderland filled with h
 ilarious hijinks and holiday music!\n\nArtistic Director Peter Brown has
  revamped one of William Shakespeare’s most popular comedies (named fo
 r the final night of festivities of the Twelve Days of Christmas)\, infu
 sing it with 17 songs that celebrate winter and the holiday season.\n\nE
 njoy a safe\, festive evening of entertainment that is sure to please ev
 ery member of the family and become Portland’s Newest Holiday Traditio
 n.
URL;VALUE=URI:https://portlandmaine.com/events/12th-night-a-holiday-cele
 bration-of-shakespeare-and-song-3/
UID:urn:uuid:2f1ea5be-7ab8-441a-be29-256b07c300a6
STATUS:CONFIRMED
ORGANIZER:
DTSTAMP:20260424T140029Z
DTSTART;TZID=America/New_York:20211210T183000
DTEND;TZID=America/New_York:20211210T210000
LOCATION:631 Stevens Avenue\, Portland\,  Maine  04103\,  US
END:VEVENT
END:VCALENDAR